BEGIN:VCALENDAR
VERSION:2.0
PRODID:-//Tukios.com/
BEGIN:VEVENT
UID:35a5ad3f-7157-4b7a-a8bd-b1a8b8b3506b@www.milkinstrymbiskifuneralhome.com
DTSTAMP:20260423T172931Z
DTSTART:20260428T160000Z
DTEND:20260428T180000Z
SUMMARY:Viewing
DESCRIPTION:
URL:https://www.milkinstrymbiskifuneralhome.com/obituaries/alex-seigfreid
LOCATION: 206 North Main Street  Bernville PA 19506
GEO:40.4317171;-76.1115865
END:VEVENT
END:VCALENDAR