BEGIN:VCALENDAR
VERSION:2.0
PRODID:-//Tukios.com/
BEGIN:VEVENT
UID:c00beace-5a6e-49c9-aba7-4de2f86af8f7@www.milkinstrymbiskifuneralhome.com
DTSTAMP:20260423T172906Z
DTSTART:20260428T180000Z
DTEND:20260428T190000Z
SUMMARY:Funeral Service
DESCRIPTION:
URL:https://www.milkinstrymbiskifuneralhome.com/obituaries/alex-seigfreid
LOCATION: 206 North Main Street  Bernville PA 19506
GEO:40.4317171;-76.1115865
END:VEVENT
END:VCALENDAR