BEGIN:VCALENDAR
VERSION:2.0
PRODID:-//Tukios.com/
BEGIN:VEVENT
UID:9c1c8053-997d-4db3-8b07-b6bc9375c77d@www.milkinstrymbiskifuneralhome.com
DTSTAMP:20260423T172731Z
DTSTART:20260428
SUMMARY:Burial
DESCRIPTION:
URL:https://www.milkinstrymbiskifuneralhome.com/obituaries/alex-seigfreid
LOCATION:Union Cemetery N. Front Street  Womelsdorf PA 19567
GEO:40.3648578;-76.1840703
END:VEVENT
END:VCALENDAR