BEGIN:VCALENDAR
VERSION:2.0
PRODID:-//Tukios.com/
BEGIN:VEVENT
UID:ec342675-054e-4a39-a24a-865edd10f62d@www.milkinstrymbiskifuneralhome.com
DTSTAMP:20260424T190845Z
DTSTART:20260430T150000Z
DTEND:20260430T160000Z
SUMMARY:Funeral Service
DESCRIPTION:
URL:https://www.milkinstrymbiskifuneralhome.com/obituaries/fern-shuman
LOCATION:Maidencreek Church 261 Main Street  Blandon PA 19510
GEO:40.4419838;-75.8872071
END:VEVENT
END:VCALENDAR