BEGIN:VCALENDAR
VERSION:2.0
PRODID:-//Tukios.com/
BEGIN:VEVENT
UID:54c33169-ee3a-4448-b6ac-34396a69756c@www.milkinstrymbiskifuneralhome.com
DTSTAMP:20260424T184944Z
DTSTART:20260429T150000Z
DTEND:20260429T160000Z
SUMMARY:Funeral Service
DESCRIPTION:
URL:https://www.milkinstrymbiskifuneralhome.com/obituaries/larry-umbenhower-sr
LOCATION:Milkins Trymbiski Funeral Home 4914 Kutztown Road  Temple PA 
	19560
GEO:40.4092707;-75.9206019
END:VEVENT
END:VCALENDAR